BEGIN:VCALENDAR
VERSION:2.0
PRODID:icalendar-ruby
CALSCALE:GREGORIAN
METHOD:PUBLISH
BEGIN:VEVENT
DTSTAMP:20260421T175125Z
UID:10-1872874@joplinfullgospel.com
DTSTART:20260904T150000Z
DTEND:20260904T160000Z
CLASS:PUBLIC
CREATED:20260421T114137
DESCRIPTION:At Joplin Full Gospel we strive to create opportunities for str
 ong lasting relationships to be built. In our JFG ladies group this may lo
 ok like a young and new to the faith lady being mentored and poured into b
 y someone who has been a part of the Church for a long time. This could al
 so look like Godly friendships that are being formed with ladies who are g
 oing to be there for each other\, pray for one another\, and speak truth i
 n love to each other. Our ladies meet weekly for a bible study on Friday m
 ornings @ 10:00am and then monthly they will fellowship in an evening over
  a meal and have someone deliver a brief message or share a testimony with
  the group. We strongly encourage all women who attend Joplin Full Gospel 
 to take part in our JFG Ladies ministry. This is a great place to connect 
 and plug in to the Church and the wonderful people who are a part of it.
LAST-MODIFIED:20260421T114137
LOCATION:2601 S Indiana
SUMMARY:Womens Group
URL;VALUE=URI:https://www.joplinfullgospel.com/events/womens-group/2026-09-
 04
ATTACH;FILENAME=Capture.PNG;FMTTYPE=image/png:https://dq5pwpg1q8ru0.cloudfr
 ont.net/2023/07/07/08/45/01/f9c8c7a7-9a7c-4e83-af0c-431eee9f934b/Capture.P
 NG
END:VEVENT
END:VCALENDAR
