BEGIN:VCALENDAR
VERSION:2.0
PRODID:icalendar-ruby
CALSCALE:GREGORIAN
METHOD:PUBLISH
BEGIN:VEVENT
DTSTAMP:20260420T030636Z
UID:1-1858457@joplinfullgospel.com
DTSTART:20261004T144500Z
DTEND:20261004T160000Z
CLASS:PUBLIC
CREATED:20260419T215109
DESCRIPTION:At JFG we put a high value on biblical education. That is why w
 e encourage everyone to attend our Sunday School classes each week prior t
 o our Sunday morning Worship service. These in depth classes are for all a
 ges where the Word of God will be studied and taught so that those attendi
 ng will experience real transformational growth in their spiritual lives.\
 n\nCome and see for yourself this Sunday. We have excellent teachers who s
 tudy and pray for you each week and this is just another way that you can 
 plug in to the local body of Christ. See you Sunday @ 9:45am!
LAST-MODIFIED:20260419T215109
LOCATION:Joplin Full Gospel Church
SUMMARY:Sunday School
URL;VALUE=URI:https://www.joplinfullgospel.com/events/sunday-school/2026-10
 -04
ATTACH;FILENAME=Capture.PNG;FMTTYPE=image/png:https://dq5pwpg1q8ru0.cloudfr
 ont.net/2023/07/07/08/47/26/e29b3c21-6636-407b-bbe7-fbfae6a27018/Capture.P
 NG
END:VEVENT
END:VCALENDAR
