BEGIN:VCALENDAR
VERSION:2.0
PRODID:icalendar-ruby
CALSCALE:GREGORIAN
METHOD:PUBLISH
BEGIN:VEVENT
DTSTAMP:20260423T222501Z
UID:5-1889304@joplinfullgospel.com
DTSTART:20260830T160000Z
DTEND:20260830T173000Z
CLASS:PUBLIC
CREATED:20260423T152304
DESCRIPTION:Sunday Worship
LAST-MODIFIED:20260423T152304
LOCATION:2601 S Indiana
SUMMARY:Sunday Morning Worship
URL;VALUE=URI:https://www.joplinfullgospel.com/events/sunday-morning-worshi
 p/2026-08-30
ATTACH;FILENAME=Capture.PNG;FMTTYPE=image/png:https://dq5pwpg1q8ru0.cloudfr
 ont.net/2023/08/13/20/28/07/bab7ab25-012c-422a-b3da-5b7eeb6c4d16/Capture.P
 NG
ATTACH;FILENAME=cover photo.jpg;FMTTYPE=image/jpeg:https://dq5pwpg1q8ru0.cl
 oudfront.net/2022/08/08/11/13/40/39398aad-7d35-4fd9-af24-489f292e923b/cove
 r%20photo.jpg
ATTACH;FILENAME=worship.jpg;FMTTYPE=image/jpeg:https://dq5pwpg1q8ru0.cloudf
 ront.net/2022/08/08/11/13/41/6fb13c2c-30cc-4ce5-9327-97094976caaa/worship.
 jpg
ATTACH;FILENAME=sings.jpg;FMTTYPE=image/jpeg:https://dq5pwpg1q8ru0.cloudfro
 nt.net/2022/08/08/11/13/41/33a2d230-a9b1-40c8-9c0c-1674e4b8144e/sings.jpg
ATTACH;FILENAME=sing.jpg;FMTTYPE=image/jpeg:https://dq5pwpg1q8ru0.cloudfron
 t.net/2022/08/08/11/13/41/03887cac-a7b9-4518-b68b-808d5367c0f4/sing.jpg
END:VEVENT
END:VCALENDAR
