BEGIN:VCALENDAR
VERSION:2.0
PRODID:icalendar-ruby
CALSCALE:GREGORIAN
METHOD:PUBLISH
BEGIN:VEVENT
DTSTAMP:20260423T204925Z
UID:9-1889978@joplinfullgospel.com
DTSTART:20260916T000000Z
DTEND:20260916T013000Z
CLASS:PUBLIC
CREATED:20260423T152306
DESCRIPTION:Men’s meeting exists for the men of Joplin Full Gospel to gat
 her weekly\, grow in the Word of God\, and in fellowship with one another.
   Each Tuesday evening at 7:00pm we will share a meal together (men love 
 to eat) and enjoy a laid back non formal atmosphere. After we have ate din
 ner and had a time of catching up we will then dive into a bible study led
  by a brother and ending with lifting each other’s needs up in prayer. W
 e encourage all men of the church to come be apart of Men’s meeting. You
  will be glad you did!
LAST-MODIFIED:20260423T152306
LOCATION:2601 Indiana 
SUMMARY:Mens Group 
URL;VALUE=URI:https://www.joplinfullgospel.com/events/mens-group/2026-09-15
ATTACH;FILENAME=Capture.PNG;FMTTYPE=image/png:https://dq5pwpg1q8ru0.cloudfr
 ont.net/2023/07/07/08/55/46/3c800be4-8a35-496e-8767-71bfa4d96d06/Capture.P
 NG
END:VEVENT
END:VCALENDAR
